BEGIN:VCALENDAR
VERSION:2.0
PRODID:-//Devil&#039;s Thumb Ranch - ECPv4.6.26.1//NONSGML v1.0//EN
CALSCALE:GREGORIAN
METHOD:PUBLISH
X-WR-CALNAME:Devil&#039;s Thumb Ranch
X-ORIGINAL-URL:https://www.devilsthumbranch.com
X-WR-CALDESC:Events for Devil&#039;s Thumb Ranch
BEGIN:VEVENT
DTSTART;TZID=America/Denver:20210611T190000
DTEND;TZID=America/Denver:20210611T210000
DTSTAMP:20260425T143421
CREATED:20210602T173203Z
LAST-MODIFIED:20210625T174931Z
UID:12584-1623438000-1623445200@www.devilsthumbranch.com
SUMMARY:Live Music at Heck's Tavern
DESCRIPTION:It doesn’t get much better than live tunes\, flavorful food\, and tasty cocktails. That’s why local musicians set the “tune” for fun-filled nights at Heck’s Tavern. Enjoy live music performances from various bluegrass and country artists. One thing’s for certain\, they all bring good vibes and great energy! \nComplimentary and reserved for lodging guests and The Ranches owners only. \n
URL:https://www.devilsthumbranch.com/event/live-music-at-hecks-tavern/2021-06-11/
CATEGORIES:Nightlife,Dining,Live Music
ATTACH;FMTTYPE=image/jpeg:/wp-content/uploads/Hecks-Music_web.jpg
END:VEVENT
END:VCALENDAR