BEGIN:VCALENDAR
VERSION:2.0
PRODID:-//Devil&#039;s Thumb Ranch - ECPv4.6.26.1//NONSGML v1.0//EN
CALSCALE:GREGORIAN
METHOD:PUBLISH
X-WR-CALNAME:Devil&#039;s Thumb Ranch
X-ORIGINAL-URL:https://www.devilsthumbranch.com
X-WR-CALDESC:Events for Devil&#039;s Thumb Ranch
BEGIN:VEVENT
DTSTART;VALUE=DATE:20260422
DTEND;VALUE=DATE:20261122
DTSTAMP:20260424T163847
CREATED:20260421T163010Z
LAST-MODIFIED:20260421T163010Z
UID:18812-1776816000-1795305599@www.devilsthumbranch.com
SUMMARY:Warm Season Daily Activities
DESCRIPTION:*Activities are reserved for overnight lodging guests only. All activities are weather-dependent. Schedule may vary based on the time of the season.   \nAvailable Upon Request:\nAdditional Horse Activities (60 minute riding lesson\, horsemanship 101\, and grooming sessions are currently available)\nFly-Fishing Trips\nS’mores at Heck’s Tavern\nSummer Pioneer Challenge\nKendra’s Garden Tour Offered between 7:30-8 AM Daily. We recommend submitting an inquiry so that they know you are coming\n \nDaily Schedule:\n8:00 AM – Guided Nature Walk (All Experience Levels)\n8:30 AM – Daily Outdoor Yoga \n9:00 AM – Divide Zip Line Tour (Starting May 25) | Fly-Fishing Lesson | Horseback Ride (90 minutes) | Mindfulness Ride (Tues. & Sun.) | Three-Hour Guided Hike (180 minutes)\n9:30 AM – Horseback Ride (90 minutes) | Lil’ Wrangler Ride (Pony Ride)\n10:30 AM – Horseback Picnic (Two & a Half Hours | Mon. & Thurs.) | Lil’ Wrangler Ride (Pony Ride) | SUP Yoga (Available Starting in June)\n11:00 AM – Family Archery  |  Fly-Fishing Lesson (Option for One or Two Hour Lesson)\n11:30 AM – Byers Loop Horseback Ride (45 minutes\, 8 years old and up) | Hike & Yoga (Saturday Only)\n12:00 PM – Fly-Fishing Lesson | Hatchet Throwing (30 minutes) | Horseback Picnic (Two & a Half Hours)\n1:00 PM – Archery | Divide Zip Line Tour | Fly-Fishing Lesson (Option for One or Two Hour Lesson) | Horseback Ride (90 minutes) | Lil’ Wrangler Ride (Pony Ride) | Three-Hour Guided Hike (180 minutes)\n1:30 PM – Byers Loop Horseback Ride (45 minutes\, 8 years old and up)| Lil’ Wrangler Ride (Pony Ride)\n2:00 PM – Laser Rifle Biathlon\n2:30 PM – Lil’ Wrangler Ride (Pony Ride)\n3:00 PM – Archery (on Weekdays) | Fly-Fishing Lesson (Option for One or Two Hour Lesson) | Horseback Ride (90 minutes)\n4:00 PM – Family-Friendly Movie (G\, PG)\n4:30 PM – Guided Nature Walk (All Experience Levels) | Old MacDonald (Kids Help Bring In Barn Yard Buddies) | Wagon Ride (Wed\, Fri\, Sat)\n6:00 PM – Western Movie\n8:00 PM – Movie (PG-13\, R) \nYoga (not including SUP Yoga)\, Nature Hike\, and Movies are Complimentary for Lodging Guests\nGuided Wade fly-fishing trip on private or public water\, available to book through the Activities Center.\nSunset Zip Line Tour\, available by request from June–July.\nDevil’s Thumb Pass Wilderness Guided Hike\, available to book through the Activities Center. \nActivities can be requested private only \n  \n  \nPRICING & RESERVATIONS\nVIEW ACTIVITIES PRICING\n
URL:https://www.devilsthumbranch.com/event/warm-season-daily-activities-2026/
CATEGORIES:Daily Activities,Activities
ATTACH;FMTTYPE=image/jpeg:/wp-content/uploads/DAS-2025-scaled.jpg
END:VEVENT
BEGIN:VEVENT
DTSTART;TZID=America/Denver:20260424T150000
DTEND;TZID=America/Denver:20260424T160000
DTSTAMP:20260424T163847
CREATED:20251223T230527Z
LAST-MODIFIED:20260414T213311Z
UID:18120-1777042800-1777046400@www.devilsthumbranch.com
SUMMARY:Bingo
DESCRIPTION:Join us for fun-filled Friday night bingo! Enjoy exciting games\, great prizes\, and a friendly atmosphere perfect for all ages. Grab a card and see if you can call BINGO! It is the perfect way to relax\, socialize\, and start weekend with some fun. Bingo is complimentary and reserved for lodging guests only.  \nComplimentary activity in Heck’s Loft. Reserved for guests only. \n
URL:https://www.devilsthumbranch.com/event/bingo/2026-04-24/
LOCATION:Heck’s Loft\, 3530 County Rd 83\, Tabernash\, CO\, 80478\, United States
GEO:39.966324;-105.7840393
X-APPLE-STRUCTURED-LOCATION;VALUE=URI;X-ADDRESS=Heck’s Loft 3530 County Rd 83 Tabernash CO 80478 United States;X-APPLE-RADIUS=500;X-TITLE=3530 County Rd 83:geo:-105.7840393,39.966324
CATEGORIES:Family Fun,Activities,Weekly Events
ATTACH;FMTTYPE=image/jpeg:/wp-content/uploads/Bingo.jpg
END:VEVENT
BEGIN:VEVENT
DTSTART;TZID=America/Denver:20260424T170000
DTEND;TZID=America/Denver:20260424T180000
DTSTAMP:20260424T163847
CREATED:20260414T225004Z
LAST-MODIFIED:20260414T225004Z
UID:18695-1777050000-1777053600@www.devilsthumbranch.com
SUMMARY:Faces of the Ranch
DESCRIPTION:Learn more about the ranch and the people who make it all possible! Meet the talented teams behind the scenes—from the chefs who craft your meals to the experts who care for our horses and discover everything they have to offer during your stay at Devil’s Thumb.  \n
URL:https://www.devilsthumbranch.com/event/faces-of-the-ranch/2026-04-24/
ATTACH;FMTTYPE=image/jpeg:/wp-content/uploads/003A1541-scaled.jpeg
END:VEVENT
BEGIN:VEVENT
DTSTART;TZID=America/Denver:20260424T180000
DTEND;TZID=America/Denver:20260424T210000
DTSTAMP:20260424T163847
CREATED:20241211T173705Z
LAST-MODIFIED:20260414T213448Z
UID:16954-1777053600-1777064400@www.devilsthumbranch.com
SUMMARY:Live Music in Heck's Tavern
DESCRIPTION:Heck’s Tavern is reserved for lodging guests only at this time. \nGrab a drink and get cozy by the fireplace for live music every Friday in Heck’s Tavern! From acoustic covers to bluegrass jam sessions\, no trip to the Ranch is complete without a musical melody to bring our mountain surroundings to life! \n
URL:https://www.devilsthumbranch.com/event/live-music-in-hecks-tavern-3/2026-04-24/
LOCATION:Heck’s Tavern
CATEGORIES:Nightlife,Dining,Live Music
ATTACH;FMTTYPE=image/jpeg:/wp-content/uploads/003A1761-scaled.jpg
END:VEVENT
END:VCALENDAR