BEGIN:VCALENDAR
VERSION:2.0
PRODID:-//Devil&#039;s Thumb Ranch - ECPv4.6.26.1//NONSGML v1.0//EN
CALSCALE:GREGORIAN
METHOD:PUBLISH
X-WR-CALNAME:Devil&#039;s Thumb Ranch
X-ORIGINAL-URL:https://www.devilsthumbranch.com
X-WR-CALDESC:Events for Devil&#039;s Thumb Ranch
BEGIN:VEVENT
DTSTART;VALUE=DATE:20221201
DTEND;VALUE=DATE:20230402
DTSTAMP:20260425T002203
CREATED:20221206T170355Z
LAST-MODIFIED:20230222T182740Z
UID:14157-1669852800-1680393599@www.devilsthumbranch.com
SUMMARY:Snow Season Daily Activities
DESCRIPTION:*All activities are reserved for overnight lodging guests and Ranches owners only\, weather-dependent\, and require advanced reservations. \nComplimentary: Yoga\, Hikes\, and Movies \nDAILY SCHEDULE:\n8:30 AM – Daily Yoga (Meditation after class Mon-Thurs)\n9:00 AM – Private Ski Lesson: Classic & Skate\n10:00 AM – Feed Sleigh Ride | Group Guided Fat Bike Tour\n10:30 AM – Winter Horseback Ride\n11:00 AM – Intro to Classic Skiing (Group Lesson) | Intro to Skate Skiing (Group Lesson) | Kids’ Group Classic Ski Lesson | Winter Horseback Ride\n11:30 PM – Kids’ Winter Trail Ride\n12:00 PM – Group Snowshoe Guided Tour\n1:00 PM – Intro to Classic Skiing (Group Lesson) | Intro to Skate Skiing (Group Lesson) | Winter Horseback Ride\n2:00 PM – Buckaroo Ride | Laser Rifle Biathlon | Winter Horseback Ride\n3:00 PM – Feed Sleigh Ride | Private Ski Lesson: Classic & Skate\n3:30 PM – Buckaroo Ride\n4:00 PM – Family-Friendly Movie (G\, PG)\n4:30 PM – Yoga (Friday Only)\n6:00 PM – Western Movie\n8:00 PM – Movie (PG-13\, R) \n  \nPRICING & RESERVATIONS\nVIEW SNOW Season ACTIVITIES \nALSO AVAILABLE UPON REQUEST:\nAdditional Horse Activities\nFly-Fishing Trips\nGuided Hike to Lactic Grande\nKids’ Cowpoke Camp\nSnow Seaosn Pioneer Challenge\nSurvival Course \n
URL:https://www.devilsthumbranch.com/event/snow-season-daily-activities-2022-23/
CATEGORIES:Daily Activities,Activities,Snow
ATTACH;FMTTYPE=image/jpeg:/wp-content/uploads/2022_XC_Ski_Ebrumm-042-scaled.jpg
END:VEVENT
BEGIN:VEVENT
DTSTART;TZID=America/Denver:20230111T170000
DTEND;TZID=America/Denver:20230111T210000
DTSTAMP:20260425T002203
CREATED:20230105T200640Z
LAST-MODIFIED:20230105T200640Z
UID:14249-1673456400-1673470800@www.devilsthumbranch.com
SUMMARY:Catena Zapata Wine Dinner
DESCRIPTION:Join us for an intimate wine tasting and 5-plus-course dinner in John L’s Wine Cellar. Along with our award-winning culinary team\, Pablo Piccola from Catena Zapata will supplement thoughtfully-paired dishes with his expert knowledge of fine wines from Argentina. \nSpace is extremely limited\, so reserve your seat at the table now by contacting lbrazil@devilsthumbranch.com or by calling (970) 726-5633 or Ext. 550 from your guestroom. \nMenu\nAmuse Bouche \nSalad Verte\nLocal greens\, Tomato\, cucumber\, House Lemon Herb Vinaigrette \nDiver Scallop\nSaffron Cream\, parmesan espuma\n2019 Catena Zapata ‘Angelica Zapata Alta’ Chardonnay\, Tupungato\, Argentina \nRocky Mountain Elk loin\nCeleriac\, grilled onion\, Huckleberry sauce\n2018 Catena Zapata ‘Catena Alta’ Malbec Mendoza\, Argentina \nDTR Wagyu\nLocal mushroom\, artichoke\, wagyu demi\n2018 Catena Zapata ‘Angelica Zapata Alta’ Cabernet Sauvignon \nPot de Crème\nChocolate\, cream \nMignardise \nFive Courses with Wine Pairing\nLocated in John L’s Wine Cellar\n$210/person (plus tax & service fee)\nLimited Seating Available \nFOR RESERVATIONS\nContact us at lbrazil@devilsthumbranch.com or by calling (970) 726-5633 or Ext. 550 from your guestroom.\nPlease notify our team of any dietary restrictions at the time of reservation. \n
URL:https://www.devilsthumbranch.com/event/catena-zapata-wine-dinner/
LOCATION:John Ls’ Wine Cellar at Devil’s Thumb Ranch\, 3530 County Road 83\, Tabernash\, CO\, 80478\, United States
GEO:39.9679716;-105.7831853
X-APPLE-STRUCTURED-LOCATION;VALUE=URI;X-ADDRESS=John Ls’ Wine Cellar at Devil’s Thumb Ranch 3530 County Road 83 Tabernash CO 80478 United States;X-APPLE-RADIUS=500;X-TITLE=3530 County Road 83:geo:-105.7831853,39.9679716
ATTACH;FMTTYPE=image/jpeg:/wp-content/uploads/DTR_WineCellar-w0243.jpg
END:VEVENT
END:VCALENDAR