BEGIN:VCALENDAR
VERSION:2.0
PRODID:-//Devil&#039;s Thumb Ranch - ECPv4.6.26.1//NONSGML v1.0//EN
CALSCALE:GREGORIAN
METHOD:PUBLISH
X-WR-CALNAME:Devil&#039;s Thumb Ranch
X-ORIGINAL-URL:https://www.devilsthumbranch.com
X-WR-CALDESC:Events for Devil&#039;s Thumb Ranch
BEGIN:VEVENT
DTSTART;VALUE=DATE:20220420
DTEND;VALUE=DATE:20221001
DTSTAMP:20260423T204730
CREATED:20220328T192425Z
LAST-MODIFIED:20220921T194455Z
UID:13563-1650412800-1664582399@www.devilsthumbranch.com
SUMMARY:Warm Season Daily Activities
DESCRIPTION:*Activities are reserved for overnight lodging guests only. All activities are weather-dependent.  \nAvailable Upon Request:\nAdditional Horse Activities (30 or 60 Minute Riding Lesson\, Grooming and Foundation lessons are currently available)\nFly-Fishing Trips\nSpring Spa Treatments Available through May 31st\nSummer Pioneer Challenge\n \nDaily Schedule:\n8:30 AM – Daily Yoga (20-minute guided meditation class will be after the yoga classes on Monday-Friday)  |  Guided Nature Hike \n9:00 AM – Archery (on Saturdays only)  |  Fly-Fishing Lesson  |  Divide Zip Line Tour\n10:00 AM – Guided Mountain Bike |  Fly-Fishing Lesson\n10:30 AM – Lil’ Wrangler Ride (Pony Ride) | Byers Loop Horseback Ride\n11:00 AM – Kids’ Archery  |  Fly-Fishing Lesson\n11:30 AM – Lil’ Wrangler Ride (Pony Ride)\n12:00 PM – Hatchet Throwing  |  Fly-Fishing Lesson  |  Divide Zip Line Tour\n12:30 PM – Fly Casting Lesson On The Lawn  (Except Sundays & Mondays)\n1:00 PM – Archery  |  Lil’ Wrangler Ride (Pony Ride)  |  Fly-Fishing Lesson  |  Wellness Wednesday (Only Available 8/10\, 8/17\, 8/31)\n1:30 AM – Byers Loop Horseback Ride\n2:00 PM – Laser Rifle Biathlon  |  Fly-Fishing Lesson\n3:00 PM – Archery (on Weekdays)  |  Fly-Fishing Lesson\n3:30 PM – Old MacDonald (Kids Help Bring In Barn Yard Buddies)\n4:00 PM – Family-Friendly Movie (G\, PG)\n4:30 PM – Horse-Drawn Wagon Ride\n6:00 PM – Western Movie\n8:00 PM – Movie (PG-13\, R) \nYoga\, Nature Hike\, and Movies are Complimentary for Lodging Guests \n  \nPRICING & RESERVATIONS\nVIEW ACTIVITIES PRICING\n
URL:https://www.devilsthumbranch.com/event/warm-season-daily-activities-2022/
CATEGORIES:Daily Activities,Activities
ATTACH;FMTTYPE=image/jpeg:/wp-content/uploads/DTR_2018_Biking-05-1-scaled.jpg
END:VEVENT
BEGIN:VEVENT
DTSTART;TZID=America/Denver:20220508T140000
DTEND;TZID=America/Denver:20220508T210000
DTSTAMP:20260423T204730
CREATED:20220505T224235Z
LAST-MODIFIED:20220506T173807Z
UID:13612-1652018400-1652043600@www.devilsthumbranch.com
SUMMARY:Mother's Day at Devil's Thumb Ranch
DESCRIPTION:Mother’s Day at heck’s Tavern\nMother’s Day Menu will be available for guests on Saturday and Sunday! \nPoke salmon salad with fresh ginger dressing – $18\nGrilled prawn pasta with a garlic mushroom pasta sauce – $28\nBouillabaisse stew with mini crostini – $16 \nMothers will also receive a complimentary glass of sparkling wine/mimosa. \nPlease call 970-726-7013 or Ext 613 from your guestroom to reserve a table or place a to-go order for lunch or dinner. \n  \nMother’s Day at Ranch House\nDoesn’t she deserve the best? Treat mom to an extraordinary mountain menu!\nServed 2–4 PM & in addition to the full menu at dinner service | $125/person\nReservations Required. \nTo reserve\, please call (970) 726-5633 or Ext 550 from your guestroom. \nMOTHER’S DAY MENU\n
URL:https://www.devilsthumbranch.com/event/mothers-day-at-devils-thumb-ranch-2022/
LOCATION:Ranch House Restaurant\, 3530 County Road 83\, Tabernash\, CO\, 80478\, United States
GEO:39.9679716;-105.7831853
X-APPLE-STRUCTURED-LOCATION;VALUE=URI;X-ADDRESS=Ranch House Restaurant 3530 County Road 83 Tabernash CO 80478 United States;X-APPLE-RADIUS=500;X-TITLE=3530 County Road 83:geo:-105.7831853,39.9679716
CATEGORIES:Family Fun,Dining,Signature Ranch Event
ATTACH;FMTTYPE=image/jpeg:/wp-content/uploads/DTR_Summer_2019_JAlsobrook_224-scaled.jpg
END:VEVENT
END:VCALENDAR