BEGIN:VCALENDAR
VERSION:2.0
PRODID:-//Devil&#039;s Thumb Ranch - ECPv4.6.26.1//NONSGML v1.0//EN
CALSCALE:GREGORIAN
METHOD:PUBLISH
X-WR-CALNAME:Devil&#039;s Thumb Ranch
X-ORIGINAL-URL:https://www.devilsthumbranch.com
X-WR-CALDESC:Events for Devil&#039;s Thumb Ranch
BEGIN:VEVENT
DTSTART;VALUE=DATE:20200728
DTEND;VALUE=DATE:20200908
DTSTAMP:20260424T141420
CREATED:20200728T225150Z
LAST-MODIFIED:20200901T193404Z
UID:10771-1595894400-1599523199@www.devilsthumbranch.com
SUMMARY:Daily Spring/Summer Activities
DESCRIPTION:*All activities are temporarily reserved for in-house lodging guests only. Advanced reservations for lodging guests are required. Walk-in reservations cannot be serviced at this time. \nWhether you’re here to relax or play or experience it all\, the Ranch has something for everyone big and small! \n8:30 AM – Guided Nature Hike  |  Mat Pilates (Mon\, Fri\, Sat\, Sun only)\n9:00 AM – Archery  |  Fly-Fishing Lesson  |  First Zip Line Tour Starts\n9:30 AM – Horseback Trail Ride\n10:00 AM – Archery  |  Pony Ride  |  Yoga\n10:30 AM – Guided Mountain Bike Ride\n11:00 AM – Archery  |  Family Horseback Ride  |  Fly-Fishing Lesson\n12:00 PM – Fly-Fishing Lesson  |  Hatchet Throwing  |  Paddleboard Yoga (Fri\, Sat\, Sun only)\n12:30 PM – Horseback Trail Ride\n1:00 PM – Archery  |  Pony Ride\n1:30 PM – Half-Day Horseback Ride\n2:00 PM – Family Horseback Ride  |  Stand Up Paddleboard\n3:00 PM – Last Zip Line Tour Starts  |  Horseback Trail Ride\n4:00 PM – Family-Friendly Movie (G\, PG)\n6:00 PM – Western Movie\n8:00 PM – Movie (PG-13\, R) \n  \nReservations Required:\nHorseback & Pony Rides\nCabin Creek Stables: (970) 726-3777\nHours: 7:30am – 5:00pm \nPilates\, SUP Yoga\, & Yoga\nRanch Creek Spa: (970) 726-1054\nTuesday-Sunday: 9:00am – 6:00pm \nALL OTHER ACTIVITIEs\nZach’s Mercantile: (970) 726-8231\nHours: 8:30am – 6:00pm \n
URL:https://www.devilsthumbranch.com/event/daily-spring-summer-activities/
CATEGORIES:Daily Activities,Activities
ATTACH;FMTTYPE=image/jpeg:/wp-content/uploads/Activities_Horseback-Riding-6.jpg
END:VEVENT
BEGIN:VEVENT
DTSTART;TZID=America/Denver:20200728T210000
DTEND;TZID=America/Denver:20200824T233000
DTSTAMP:20260424T141420
CREATED:20200717T155322Z
LAST-MODIFIED:20200803T202005Z
UID:10675-1595970000-1598311800@www.devilsthumbranch.com
SUMMARY:Peak Stargazing Nights
DESCRIPTION:A dark summer night is the perfect time to sit back\, look up\, and enjoy silent\, star-studded skies. While being tucked away in the Colorado Rocky Mountains\, the Ranch has very little light pollution creating the ideal setting for stargazing and experiencing the most magical meteor showers and comet sightings. \nCOMET NEOWISE\nJuly 10 – Mid August\nThe brightest comet to be visible from the Northern Hemisphere in a quarter-century! 3 miles across\, the comet’s nucleus is covered with sooty material dating back to the origin of our solar system 4.6 billion years ago. The comet will be visible with the naked eye in dark skies until mid-August when it heads back toward the outer solar system and won’t return for about 7\,000 years. \nANNUAL PERSEID METEOR SHOWER\nJuly 17 – August 24\nPerseids tend to be bright and should be able to overcome the moonlight. On peak mornings\, August 11-13\, you’ll be able to see up to 50 meteors per hour. \nFULL MOON\nAugust 3\nNative Americans referred to this month’s full moon as the Green Corn Moon because the corn was fully grown\, but not yet ready to harvest. \nCONSTELLATIONS\nJuly – August\nConstellations visible include favorites such as The Big Dipper\, The Northern Cross\, and Cassiopeia\, as well as the Summer Triangle\, Scorpius\, and The Teapot. \n
URL:https://www.devilsthumbranch.com/event/colorado-stargazing-2020-07-30/
CATEGORIES:Family Fun,Nightlife,Nature
ATTACH;FMTTYPE=image/jpeg:/wp-content/uploads/AstonomyBlog.jpg
END:VEVENT
END:VCALENDAR