BEGIN:VCALENDAR
VERSION:2.0
PRODID:-//Devil&#039;s Thumb Ranch - ECPv4.6.26.1//NONSGML v1.0//EN
CALSCALE:GREGORIAN
METHOD:PUBLISH
X-WR-CALNAME:Devil&#039;s Thumb Ranch
X-ORIGINAL-URL:https://www.devilsthumbranch.com
X-WR-CALDESC:Events for Devil&#039;s Thumb Ranch
BEGIN:VEVENT
DTSTART;TZID=America/Denver:20200717T160000
DTEND;TZID=America/Denver:20200719T110000
DTSTAMP:20260424T135647
CREATED:20200214T001735Z
LAST-MODIFIED:20200928T174325Z
UID:9436-1595001600-1595156400@www.devilsthumbranch.com
SUMMARY:POSTPONED - Vitality: Restoring Nutrition Retreat
DESCRIPTION:THIS RETREAT HAS BEEN POSTPONED\nPlease check back for updates. \nAs we transition into summer after a season of stress\, isolation\, and possibly less-than-ideal eating habits\, we come together for rejuvenation\, fellowship\, and restoring nourishment. During this nutrition and wellness weekend in the Colorado Rocky Mountains\, we will help you heal the body and restore vibrant energy with clean eating and lifestyle design. Join us for an immersive experience to explore how to rebound with resilience by giving the body the nutrition it needs through custom-tailored\, hands-on workshops and self-care steps to feel your best each day. Ellie Kempton\, a Registered Dietitian Nutritionist\, will dig into the biochemistry of resilient energy\, highlight the most therapeutic energizing foods\, and demonstrate practical ways to include them in your life with simplicity and confidence. You will walk away from this weekend with a gorgeous roadmap to follow showcasing ways to rebuild the body from cell to soul with the knowledge of: \n\nHow to support adrenal function which translates to consistent energy production and decreased stress levels\nSpecific patterns of eating protein\, carbs and fats to restore your morning energy and your deep sound sleep\nHow to prepare three energizing recipes showcasing seasonal foods that supply the body with resilience\n\nFull Weekend Includes: \n\nTwo nights of lodging\nAll meals with non-alcoholic drinks (timing at your leisure)\nWelcome Social & Essential Oil Bar\nNutrition Workshop & Cooking Demonstration\nYoga for Detox & Optional Forest Therapy Walk\nGratuities for all meals\n\nPricing for Full Retreat: \n\n$1\,089/Single\n$1\,556/Double ($778/Person)\n\n  \n \nBook online or contact our Reservation Team at (970)-726-7000. \n  \nAbout Ellie Kempton:\nA Registered Dietitian Nutritionist (RDN) with a Master’s Degree in Nutrition\, Ellie is a champion for your nourishment and vibrancy\, from cell to soul. Her philosophy about wellness started with her own path of trial and error\, lots of error. As a collegiate swimmer\, Ellie found herself at the intersection of rigorous practices and toxic foods\, drinks\, and thoughts until a Naturopathic Doctor (ND) finally clued her in. She learned a new way of living from the doctor and went on to study nutrition for her own degree. Since then\, Ellie has spent years designing\, tweaking\, and refining her knowledge\, strategies\, and protocols to help others interpret their bodies\, track down their toxic offenders\, and come alive. She believes that food is our most potent medicine and our best recipe for preventative healthcare. And just as wonderfully\, you’ll rediscover the power of food to build community\, connect us to our cultures\, and nourish every aspect of our bodies\, from cell to soul. Learn more about Ellie. \n
URL:https://www.devilsthumbranch.com/event/nutrition-retreat-colorado/
CATEGORIES:Signature Ranch Event,Spa/Yoga,Nature
ATTACH;FMTTYPE=image/jpeg:/wp-content/uploads/DTR-Vitality-RestoringNutritionRetreat-Banner.jpg
END:VEVENT
BEGIN:VEVENT
DTSTART;TZID=America/Denver:20200717T210000
DTEND;TZID=America/Denver:20200717T233000
DTSTAMP:20260424T135647
CREATED:20200717T155322Z
LAST-MODIFIED:20200728T212045Z
UID:10620-1595019600-1595028600@www.devilsthumbranch.com
SUMMARY:Peak Stargazing Nights
DESCRIPTION:A dark summer night is the perfect time to sit back\, look up\, and enjoy silent\, star-studded skies. While being tucked away in the Colorado Rocky Mountains\, the Ranch has very little light pollution creating the ideal setting for stargazing and experiencing the most magical meteor showers and comet sightings. \nCOMET NEOWISE\nJuly 10 – Mid August\nThe brightest comet to be visible from the Northern Hemisphere in a quarter-century! 3 miles across\, the comet’s nucleus is covered with sooty material dating back to the origin of our solar system 4.6 billion years ago. The comet will be visible with the naked eye in dark skies until mid-August when it heads back toward the outer solar system and won’t return for about 7\,000 years. \nANNUAL PERSEID METEOR SHOWER\nJuly 17 – August 24\nPerseids tend to be bright and should be able to overcome the moonlight. On peak mornings\, August 11-13\, you’ll be able to see up to 50 meteors per hour. \nFULL MOON\nAugust 3\nNative Americans referred to this month’s full moon as the Green Corn Moon because the corn was fully grown\, but not yet ready to harvest. \nCONSTELLATIONS\nJuly – August\nConstellations visible include favorites such as The Big Dipper\, The Northern Cross\, and Cassiopeia\, as well as the Summer Triangle\, Scorpius\, and The Teapot. \n
URL:https://www.devilsthumbranch.com/event/colorado-stargazing/
CATEGORIES:Family Fun,Nightlife,Nature
ATTACH;FMTTYPE=image/jpeg:/wp-content/uploads/AstonomyBlog.jpg
END:VEVENT
END:VCALENDAR