BEGIN:VCALENDAR
VERSION:2.0
PRODID:-//Devil&#039;s Thumb Ranch - ECPv4.6.26.1//NONSGML v1.0//EN
CALSCALE:GREGORIAN
METHOD:PUBLISH
X-WR-CALNAME:Devil&#039;s Thumb Ranch
X-ORIGINAL-URL:https://www.devilsthumbranch.com
X-WR-CALDESC:Events for Devil&#039;s Thumb Ranch
BEGIN:VEVENT
DTSTART;TZID=America/Denver:20190707T083000
DTEND;TZID=America/Denver:20190707T170000
DTSTAMP:20260422T142245
CREATED:20190201T184001Z
LAST-MODIFIED:20200204T052647Z
UID:7031-1562488200-1562518800@www.devilsthumbranch.com
SUMMARY:Women\, Wheels\, & Wine
DESCRIPTION:Whether you’re an avid cyclist or your bike only gets used a couple of times a year\, you’ll learn something & have a great time on the Ranch trails. The day includes lunch\, wine\, yoga\, chair massages\, use of the Devil’s Thumb Ranch pool\, and hanging out in the hot tub\, sauna & steam room at Ranch Creek Spa. \nCost: $150 \nLocation: Yager House \nFOR MORE INFORMATION OR TO RESERVE YOUR SPOT:\nVisit Zach’s Mercantile or call (970) 726-8231 \n
URL:https://www.devilsthumbranch.com/event/women-wheels-wine-2-2/
CATEGORIES:Clinic,Signature Ranch Event,Activities
ATTACH;FMTTYPE=image/jpeg:/wp-content/uploads/DTR_2018_Biking-18.jpg
END:VEVENT
END:VCALENDAR