BEGIN:VCALENDAR
VERSION:2.0
PRODID:-//Devil&#039;s Thumb Ranch - ECPv4.6.26.1//NONSGML v1.0//EN
CALSCALE:GREGORIAN
METHOD:PUBLISH
X-WR-CALNAME:Devil&#039;s Thumb Ranch
X-ORIGINAL-URL:https://www.devilsthumbranch.com
X-WR-CALDESC:Events for Devil&#039;s Thumb Ranch
BEGIN:VEVENT
DTSTART;TZID=America/Denver:20210521T170000
DTEND;TZID=America/Denver:20210523T120000
DTSTAMP:20260420T140100
CREATED:20210208T234416Z
LAST-MODIFIED:20210208T234416Z
UID:11639-1621616400-1621771200@www.devilsthumbranch.com
SUMMARY:Spring Vitality Wellness Retreat
DESCRIPTION:\nExperience Spring Renewal\nin Wide Open Mountain Spaces\nHosted by Center Strength Studios & Simply Nourished Nutrition \n\n\nJoin us for a socially-distanced wellness weekend in the fresh\, crisp mountain air and serene settings of Devil’s Thumb Ranch. Connect with nature and restore your body and soul with hiking\, nutrition\, movement\, and more. \n\n\nRecharge – Spring is the season of rebirth and renewal.  Ellie Kempton from Simply Nourished Nutrition will teach us ways to re-energize and re-charge. She’ll share her inspiring nutritional and healthy lifestyle tips. Nobody does it better!\nReset – Ahh\, fresh air. Many of us have been cooped up inside a bit too often this past year. Enjoy over 6\,500 acres of “socially-distanced” pristine mountain wilderness.\nResilience – We’ll celebrate this season of rebirth with a focus on strengthening and celebrating our resilience. From indoor class options such as mat pilates\, fusion fitness\, and yoga to springtime mountainside walks\, you’ll feel stronger\, more vital this season.\nReconnect – Join us to recharge\, reconnect\, and strengthen your vitality. Bring a friend\, travel solo\, or make it a Mother’s Day gift of wellness and relaxation.\n\nRetreat Pricing\nIncludes welcome reception\, healthy meals\, fitness classes\, guided hiking\, nutrition workshop\, and cooking demonstration. Lodging and alcohol excluded.\n$595 Per Person  |  $475 for Members of Center Strength Studio\, Let’s Move\, Groups Plus\, or Whole Health Unlimited\nSpace is very limited and socially distanced. Registration ends May 10th. \nReserve with Center Strength Studio: (303) 333-6674\, centerstrength@centerstrengthstudios.com\n \nSPa & Activity Savings\nAll attendees will receive 20% discounts at Ranch Creek Spa\, Cabin Creek Stables\, and Zach’s Mercantile (Nordic Skiing\, Snowshoeing\, Retail\, & More). Reserve your activities with our Concierge after confirming your retreat registration and lodging. \nSpecial Lodging Rates\n$250/night for attendees | $160/night for Center Strength Studio clients. \nGuests must first sign up for the retreat prior to receiving special lodging rates.\nPlease contact Center Strength Studios:\n(303) 333-6674\ncenterstrength@centerstrengthstudios.com\n
URL:https://www.devilsthumbranch.com/event/wellness-retreat-spring-2021/
CATEGORIES:Clinic,Signature Ranch Event,Spa/Yoga,Nature
ATTACH;FMTTYPE=image/jpeg:/wp-content/uploads/WW27.jpg
END:VEVENT
END:VCALENDAR