BEGIN:VCALENDAR
VERSION:2.0
PRODID:-//Devil&#039;s Thumb Ranch - ECPv4.6.26.1//NONSGML v1.0//EN
CALSCALE:GREGORIAN
METHOD:PUBLISH
X-WR-CALNAME:Devil&#039;s Thumb Ranch
X-ORIGINAL-URL:https://www.devilsthumbranch.com
X-WR-CALDESC:Events for Devil&#039;s Thumb Ranch
BEGIN:VEVENT
DTSTART;VALUE=DATE:20180623
DTEND;VALUE=DATE:20180624
DTSTAMP:20260422T102033
CREATED:20180523T223011Z
LAST-MODIFIED:20180523T223144Z
UID:5937-1529712000-1529798399@www.devilsthumbranch.com
SUMMARY:Winter Park Resort Epic Singletrack Series: RACE #2 - Point To Point
DESCRIPTION:Winter Park Resort Epic Singletrack Series: RACE #2 – Point To Point\nBrought to you by Devil’s Thumb Ranch Resort \nEpic Single Track Series: Race #2 – Point To Point \n  \n\n\n\n\n\n\n\n\n\n\n\n\n\nLocation:\nThe event starts at Winter Park Resort Base and finishes at the St. Louis Creek Campground. Course is Approximately 25.09 miles \nSaturday\, June 23\, 2018:\nStart Times begin at 9am\n \n970-726-1590 \n\n\n\n\n  \n\n\n\n\n\n\n\n\n\n\n\n\n\n
URL:https://www.devilsthumbranch.com/event/stagecoach-classic-race-tour-2/
CATEGORIES:Family Fun,Daily Activities
ATTACH;FMTTYPE=image/jpeg:/wp-content/uploads/epic-singletrack-series-race-2-point-to-point-3231-3339.jpg
END:VEVENT
END:VCALENDAR