BEGIN:VCALENDAR
VERSION:2.0
PRODID:-//Devil&#039;s Thumb Ranch - ECPv4.6.26.1//NONSGML v1.0//EN
CALSCALE:GREGORIAN
METHOD:PUBLISH
X-WR-CALNAME:Devil&#039;s Thumb Ranch
X-ORIGINAL-URL:https://www.devilsthumbranch.com
X-WR-CALDESC:Events for Devil&#039;s Thumb Ranch
BEGIN:VEVENT
DTSTART;VALUE=DATE:20241118
DTEND;VALUE=DATE:20250406
DTSTAMP:20260422T181135
CREATED:20241114T231018Z
LAST-MODIFIED:20241118T174600Z
UID:16882-1731888000-1743897599@www.devilsthumbranch.com
SUMMARY:Snow Season Daily Activities
DESCRIPTION:*All activities are reserved for overnight lodging guests and Ranches owners only\, weather-dependent\, and require advanced reservations. \nComplimentary: Yoga\, Hikes\, and Movies \nDAILY SCHEDULE:\n8:30 AM – Daily Yoga | meditation after class\n9:00 AM – Private Ski Lesson: Classic & Skate\n10:00 AM – Group Guided Fat Bike Tour | Kids’ Group Classic Ski Lesson (Saturday Only) | Yoga (Monday\, Wednesday\, Friday\, Sunday)\n11:00 AM – Intro to Classic Skiing/Skate Skiing (Group Lesson) | Winter Horseback Ride\n11:30 AM – Buckaroo Horseback Ride or Lil’ Wrangler Ride\n12:00 PM – Group Snowshoe Guided Tour\n1:00 PM – Intro to Classic Skiing (Group Lesson) | Winter Horseback Ride\n1:30 PM – Buckaroo Horseback Ride or Lil’ Wrangler Ride\n2:00 PM – Laser Rifle Biathlon\n3:00 PM – Meet The Horses Wagon Ride | Private Ski Lesson: Classic & Skate\n4:00 PM – Family-Friendly Movie (G\, PG)\n6:00 PM – Western Movie\n8:00 PM – Movie (PG-13\, R) \n  \nPRICING & RESERVATIONS\nVIEW SNOW Season ACTIVITIES \nALSO AVAILABLE UPON REQUEST:\nAdditional Horse Activities\nSkijoring Clinics\nPrivate Nordic Ski (Classic/Skate) Touring\nFly-Fishing Trips\nSnow Season Pioneer Challenge \n  \n
URL:https://www.devilsthumbranch.com/event/snow-season-daily-activities-2024-25/
CATEGORIES:Daily Activities,Activities,Snow
ATTACH;FMTTYPE=image/jpeg:/wp-content/uploads/SnowActivitiesSchedule-scaled.jpg
END:VEVENT
END:VCALENDAR