BEGIN:VCALENDAR
VERSION:2.0
PRODID:-//Devil&#039;s Thumb Ranch - ECPv4.6.26.1//NONSGML v1.0//EN
CALSCALE:GREGORIAN
METHOD:PUBLISH
X-WR-CALNAME:Devil&#039;s Thumb Ranch
X-ORIGINAL-URL:https://www.devilsthumbranch.com
X-WR-CALDESC:Events for Devil&#039;s Thumb Ranch
BEGIN:VEVENT
DTSTART;TZID=America/Denver:20241104T080000
DTEND;TZID=America/Denver:20241118T080000
DTSTAMP:20260424T112551
CREATED:20241025T225426Z
LAST-MODIFIED:20241118T174348Z
UID:16848-1730707200-1731916800@www.devilsthumbranch.com
SUMMARY:Seasonal Ranch Closure
DESCRIPTION:It’s time for our seasonal Ranch refresh! We’re excited to welcome you back starting November 19th! \n
URL:https://www.devilsthumbranch.com/event/seasonal-ranch-closure-2/
ATTACH;FMTTYPE=image/jpeg:/wp-content/uploads/003A5220-2-scaled.jpg
END:VEVENT
END:VCALENDAR