BEGIN:VCALENDAR
VERSION:2.0
PRODID:-//Devil&#039;s Thumb Ranch - ECPv4.6.26.1//NONSGML v1.0//EN
CALSCALE:GREGORIAN
METHOD:PUBLISH
X-WR-CALNAME:Devil&#039;s Thumb Ranch
X-ORIGINAL-URL:https://www.devilsthumbranch.com
X-WR-CALDESC:Events for Devil&#039;s Thumb Ranch
BEGIN:VEVENT
DTSTART;TZID=America/Denver:20220115T180000
DTEND;TZID=America/Denver:20220115T193000
DTSTAMP:20260424T081904
CREATED:20211007T204254Z
LAST-MODIFIED:20211007T204254Z
UID:13191-1642269600-1642275000@www.devilsthumbranch.com
SUMMARY:Full Moon Ski Tour
DESCRIPTION:Resort guests can join our guided cross-country ski tours under the light of the full moon. Ski through our Rocky Mountain winter wonderland. \nReservations & Check-In: Zach’s Mercantile (970) 726-8231\, Group limited to 10 people. \nCost: Complimentary and reserved for Lodging Guests only. Equipment not included ($25 ski rentals). \nExperience: Cross-country ski experience preferred. \nJanuary 15th Wolf Moon\nFebruary 19th Snow Moon\nMarch 19th Worm Moon\n\n
URL:https://www.devilsthumbranch.com/event/full-moon-ski-tour-2-2/2022-01-15/
CATEGORIES:Daily Activities,Nordic,Activities
ATTACH;FMTTYPE=image/jpeg:/wp-content/uploads/Colorado-Night-Ski-Tour.jpg
END:VEVENT
END:VCALENDAR