BEGIN:VCALENDAR
VERSION:2.0
PRODID:-//Devil&#039;s Thumb Ranch - ECPv4.6.26.1//NONSGML v1.0//EN
CALSCALE:GREGORIAN
METHOD:PUBLISH
X-WR-CALNAME:Devil&#039;s Thumb Ranch
X-ORIGINAL-URL:https://www.devilsthumbranch.com
X-WR-CALDESC:Events for Devil&#039;s Thumb Ranch
BEGIN:VEVENT
DTSTART;TZID=America/Denver:20190621T200000
DTEND;TZID=America/Denver:20190621T220000
DTSTAMP:20260422T121237
CREATED:20190529T214400Z
LAST-MODIFIED:20190620T224809Z
UID:7597-1561147200-1561154400@www.devilsthumbranch.com
SUMMARY:Friday Live Music | Steve Foltz of Trout Steak Revival
DESCRIPTION:This Friday we are excited to host Steve Foltz of Trout Steak Revival for our Friday night music at Heck’s! \nAll Ages | At Heck’s Tavern \nComplimentary for Lodging Guests \n
URL:https://www.devilsthumbranch.com/event/friday-live-music-2019-06-21/
CATEGORIES:Family Fun,Nightlife,Evening Programming
ATTACH;FMTTYPE=image/jpeg:/wp-content/uploads/20161208_071857_trout-steak-steve-foltz-web.jpg
END:VEVENT
END:VCALENDAR