BEGIN:VCALENDAR
VERSION:2.0
PRODID:-//Devil&#039;s Thumb Ranch - ECPv4.6.26.1//NONSGML v1.0//EN
CALSCALE:GREGORIAN
METHOD:PUBLISH
X-WR-CALNAME:Devil&#039;s Thumb Ranch
X-ORIGINAL-URL:https://www.devilsthumbranch.com
X-WR-CALDESC:Events for Devil&#039;s Thumb Ranch
BEGIN:VEVENT
DTSTART;TZID=America/Denver:20191011T080000
DTEND;TZID=America/Denver:20191011T180000
DTSTAMP:20260421T122246
CREATED:20190729T154814Z
LAST-MODIFIED:20190819T181508Z
UID:7906-1570780800-1570816800@www.devilsthumbranch.com
SUMMARY:Devil's Thumb Ranch Ski Sale
DESCRIPTION:Fischer\, Rossignol\, Madshus\, Saloman Skis and Boots will be available for a discounted price! \nZach’s Mercantile | Free & open to the public \n
URL:https://www.devilsthumbranch.com/event/devils-thumb-ranch-ski-sale-2/
CATEGORIES:Nordic,Activities,Shopping
ATTACH;FMTTYPE=image/jpeg:/wp-content/uploads/IMG_2719-1.jpg
END:VEVENT
END:VCALENDAR