BEGIN:VCALENDAR
VERSION:2.0
PRODID:-//Devil&#039;s Thumb Ranch - ECPv4.6.26.1//NONSGML v1.0//EN
CALSCALE:GREGORIAN
METHOD:PUBLISH
X-WR-CALNAME:Devil&#039;s Thumb Ranch
X-ORIGINAL-URL:https://www.devilsthumbranch.com
X-WR-CALDESC:Events for Devil&#039;s Thumb Ranch
BEGIN:VEVENT
DTSTART;TZID=America/Denver:20190626T090000
DTEND;TZID=America/Denver:20190626T110000
DTSTAMP:20260422T101638
CREATED:20190603T150617Z
LAST-MODIFIED:20190603T150617Z
UID:7662-1561539600-1561546800@www.devilsthumbranch.com
SUMMARY:Bird Viewing
DESCRIPTION:Come join Scott Rashid\, Director of the Colorado Avian Research and Rehabilitation Institute or CARRI on a leisurely bird walk along the grounds of the ranch. As you walk\, Scott will both identify the birds by sight and by sound\, and teach you about the birds seen on the property. This is for both the novice and the more advanced birder. \nDates: May 26th\, June 5th/12th/19th/26th\, July 3rd/10th/17th\nCost: Complimentary to lodging guest\, $40 for outside guests\nFOR MORE INFORMATION OR TO RESERVE YOUR SPOT: Visit Zach’s Mercantile or call (970) 726-8231 \n
URL:https://www.devilsthumbranch.com/event/bird-viewing-2-2-2-2/
CATEGORIES:Clinic,Activities,Birding
ATTACH;FMTTYPE=image/jpeg:/wp-content/uploads/snowy-owl-2hr4460-1.jpg
END:VEVENT
END:VCALENDAR